BEGIN:VCALENDAR
VERSION:2.0
PRODID:TU Chemnitz
METHOD:PUBLISH
X-WR-CALNAME:Veranstaltungen der TU Chemnitz
X-WR-TIMEZONE:Europe/Berlin
BEGIN:VEVENT
CLASS:PUBLIC
DTSTART;TZID="Europe/Berlin":20171109T180000
DTEND;TZID="Europe/Berlin":20171109T220000
LOCATION:Reichenhainer Str. 55\, Chemnitz (Mensa)
SUMMARY:Lesung und Gespräch mit Marica Bodrozic (Philosophische Fakultät\, Professur Internationale Politik)
DESCRIPTION:"Mein weißer Frieden. Demokratie und Versöhnung auf dem Balkan." Zur Eröffnung des 21. Politik- und Regionalwissenschaftlichen Symposiums unter dem diesjährigen Titel "Europa - Demokratie und Versöhnung auf dem Balkan" liest Marica Bodrozic aus ihrem Werk\nMarica Bodrozic\, Schriftstellerin\nDer Eintritt ist frei.
ORGANIZER:MAILTO:anja.paessler@phil.tu-chemnitz.de
UID:19261@www.tu-chemnitz.de
CREATED:20171030T134200Z
DTSTAMP:20210802T185804Z
END:VEVENT
END:VCALENDAR
