BEGIN:VCALENDAR
VERSION:2.0
PRODID:TU Chemnitz
METHOD:PUBLISH
X-WR-CALNAME:Veranstaltungen der TU Chemnitz
X-WR-TIMEZONE:Europe/Berlin
BEGIN:VEVENT
CLASS:PUBLIC
DTSTART;TZID="Europe/Berlin":20011128T143000
DTEND;TZID="Europe/Berlin":20011128T170000
LOCATION:Reichenhainer Str. 70\, Chemnitz (Zentr. Hörsaal- und Seminargebäude)
SUMMARY:Berufs- und wirtschaftspädagogisches Colloquium (Philosophische Fakultät\, Wirtschaftspädagogik)
DESCRIPTION:Festveranstaltung aus Anlass des 60. Geburtstages von Prof. Justin und des 75. Geburtstages von Prof. Schanz.\nProf. Rolf Dubs\, Universität St. Gallen\nhelmut.woll@phil.tu-chemnitz.de
ORGANIZER:MAILTO:helmut.woll@hrz.tu-chemnitz.de
UID:1926@www.tu-chemnitz.de
CREATED:20011109T202400Z
DTSTAMP:20210802T202643Z
END:VEVENT
END:VCALENDAR
