BEGIN:VCALENDAR
VERSION:2.0
PRODID:TU Chemnitz
METHOD:PUBLISH
X-WR-CALNAME:Veranstaltungen der TU Chemnitz
X-WR-TIMEZONE:Europe/Berlin
BEGIN:VEVENT
CLASS:PUBLIC
DTSTART;TZID="Europe/Berlin":20171108T190000
DTEND;TZID="Europe/Berlin":20171108T203000
LOCATION:Reichenhainer Str. 90\, Chemnitz (Zentr. Hörsaal- und Seminargebäude)
SUMMARY:Bundestagswahl 2017  – Ergebnisse und Auswirkungen (Philosophische Fakultät\, Professur Europäische Regierungssysteme im Vergleich)
DESCRIPTION:Podiumsdiskussion mit Prof. Dr. Alexander Gallus\, Prof. Dr. Eric Linhart\, Jun.-Prof. Dr. Tom Mannewitz\, Prof. Dr. Beate Neuss und PD Dr. Christian Schweiger.\nGabriele Wagner\, +49 371 531-27770\, professur-er@phil.tu-chemnitz.de
ORGANIZER:MAILTO:patrick.thost@s2014.tu-chemnitz.de
UID:19259@www.tu-chemnitz.de
CREATED:20171030T124700Z
DTSTAMP:20210802T185748Z
END:VEVENT
END:VCALENDAR
