BEGIN:VCALENDAR
VERSION:2.0
PRODID:TU Chemnitz
METHOD:PUBLISH
X-WR-CALNAME:Veranstaltungen der TU Chemnitz
X-WR-TIMEZONE:Europe/Berlin
BEGIN:VEVENT
CLASS:PUBLIC
DTSTART;TZID="Europe/Berlin":20171114T171500
DTEND;TZID="Europe/Berlin":20171114T184500
LOCATION:Wilhelm-Raabe-Str. 43\, Chemnitz
SUMMARY:Institutskolloquium Psychologie (Fakultät für Human- und Sozialwissenschaften\, Institut für Psychologie)
DESCRIPTION:Thema: Intergruppenkontakt und sozialer Kontext: Eine mehrebenenanalytische Betrachtung der Effekte von Kontakten zwischen Mitgliedern unterschiedlicher Gruppen\nProf. Dr. Oliver Christ\nJun.-Prof. Dr. Frank Asbrock\, 0371 531-31678
ORGANIZER:MAILTO:michael.meinig@psychologie.tu-chemnitz.de
UID:19241@www.tu-chemnitz.de
CREATED:20171025T110100Z
DTSTAMP:20210802T185756Z
END:VEVENT
END:VCALENDAR
