BEGIN:VCALENDAR
VERSION:2.0
PRODID:TU Chemnitz
METHOD:PUBLISH
X-WR-CALNAME:Veranstaltungen der TU Chemnitz
X-WR-TIMEZONE:Europe/Berlin
BEGIN:VEVENT
CLASS:PUBLIC
DTSTART;TZID="Europe/Berlin":20171129T170000
DTEND;TZID="Europe/Berlin":20171129T200000
LOCATION:Erfenschlager Str. 73\, Chemnitz
SUMMARY:Industrie 4.0 kompakt – Ihre Chance (TU Chemnitz)
DESCRIPTION:Thementag des Mittelstand 4.0-Kompetenzzentrums Chemnitz\nMittelstand 4.0-Kompetenzzentrum Chemnitz\nFrank Börner\, +49 (0) 371/ 531 37513\, frank.boerner@betrieb-machen.de
ORGANIZER:MAILTO:madeleine.dietrich@mb.tu-chemnitz.de
UID:19236@www.tu-chemnitz.de
CREATED:20171023T130700Z
DTSTAMP:20210802T185749Z
END:VEVENT
END:VCALENDAR
