BEGIN:VCALENDAR
VERSION:2.0
PRODID:TU Chemnitz
METHOD:PUBLISH
X-WR-CALNAME:Veranstaltungen der TU Chemnitz
X-WR-TIMEZONE:Europe/Berlin
BEGIN:VEVENT
CLASS:PUBLIC
DTSTART;TZID="Europe/Berlin":20011119T173000
DTEND;TZID="Europe/Berlin":20011119T190000
LOCATION:Str. der Nationen 62\, Chemnitz (Altes Heizhaus)
SUMMARY:Eröffnungsveranstaltung "camo - campus mobil" (Universitätsrechenzentrum)
DESCRIPTION:offizielle Inbetriebnahme eines drahtlosen Rechnernetze als Ergänzung zum Campusnetz - für Vorlesungen\, Konferenzen ...\ns. Programm\nURZ@TU-Chemnitz.DE
ORGANIZER:MAILTO:uri@hrz.tu-chemnitz.de
UID:1922@www.tu-chemnitz.de
CREATED:20011109T130200Z
DTSTAMP:20210802T202649Z
END:VEVENT
END:VCALENDAR
