BEGIN:VCALENDAR
VERSION:2.0
PRODID:TU Chemnitz
METHOD:PUBLISH
X-WR-CALNAME:Veranstaltungen der TU Chemnitz
X-WR-TIMEZONE:Europe/Berlin
BEGIN:VEVENT
CLASS:PUBLIC
DTSTART;TZID="Europe/Berlin":20011129T083000
DTEND;TZID="Europe/Berlin":20011129T100000
LOCATION:Reichenhainer Str. 70\, Chemnitz (Rühlmann-Bau)
SUMMARY:Personalversammlung (Personalrat)
DESCRIPTION:Personalrat
ORGANIZER:MAILTO:thra@hrz.tu-chemnitz.de
UID:1921@www.tu-chemnitz.de
CREATED:20011108T120300Z
DTSTAMP:20210802T202641Z
END:VEVENT
END:VCALENDAR
