BEGIN:VCALENDAR
VERSION:2.0
PRODID:TU Chemnitz
METHOD:PUBLISH
X-WR-CALNAME:Veranstaltungen der TU Chemnitz
X-WR-TIMEZONE:Europe/Berlin
BEGIN:VEVENT
CLASS:PUBLIC
DTSTART;TZID="Europe/Berlin":19981203T170000
DTEND;TZID="Europe/Berlin":19981206T120000
LOCATION:Uni\, Seaside Residenz Hotel CHemnitz\, B-PLan\, Forum
SUMMARY:Winter-GSV`98 in Chemnitz unter dem Motto: "Chemnitz knackt die Nuss" (MTP e.V. Geschaeftsstelle Chemnitz)
DESCRIPTION:Grosse Geschaeftsstellenversammlung des MTP e.V. auf der ca. 400 Studenten aus ganz Deutschland zusammen mit Unternehmensvertretern aus ganz Deutschland 4 Tage lang arbeiten und abends ein wenig Spass haben werden.\nUnternehmer aus ganz Deutschland\nSimone Lindner\, 0170 / 211 65 57 oder Fax an 590 39 11
ORGANIZER:MAILTO:sili@hrz.tu-chemnitz.de
UID:192@www.tu-chemnitz.de
CREATED:19981110T111900Z
DTSTAMP:20210802T203535Z
END:VEVENT
END:VCALENDAR
