BEGIN:VCALENDAR
VERSION:2.0
PRODID:TU Chemnitz
METHOD:PUBLISH
X-WR-CALNAME:Veranstaltungen der TU Chemnitz
X-WR-TIMEZONE:Europe/Berlin
BEGIN:VEVENT
CLASS:PUBLIC
DTSTART;TZID="Europe/Berlin":20171205T091500
DTEND;TZID="Europe/Berlin":20171205T130000
LOCATION:Reichenhainer Str. 70\, Chemnitz (Weinhold-Bau)
SUMMARY:Lern|RAUM Workshop: Selbstsicheres Auftreten und Präsentieren II (TU Chemnitz)
DESCRIPTION:Ziel: Körpersprache beobachten\, reflektieren und nutzen; Selbstsicheres Auftreten wahrnehmen und übertragen.\nVoraussetzung: Workshop Selbstsicheres Auftreten und Präsentieren I\nAnmeldung erforderlich unter: www.tu-chemnitz.de/lernraum\nStefanie Voigt\nElisabeth Eckelmann\, 0371-53136252\, elisabeth.eckelmann@hrz.tu-chemnitz.de
ORGANIZER:MAILTO:elisabeth.eckelmann@hrz.tu-chemnitz.de
UID:19193@www.tu-chemnitz.de
CREATED:20171017T141800Z
DTSTAMP:20210802T185940Z
END:VEVENT
END:VCALENDAR
