BEGIN:VCALENDAR
VERSION:2.0
PRODID:TU Chemnitz
METHOD:PUBLISH
X-WR-CALNAME:Veranstaltungen der TU Chemnitz
X-WR-TIMEZONE:Europe/Berlin
BEGIN:VEVENT
CLASS:PUBLIC
DTSTART;TZID="Europe/Berlin":20171108T160000
DTEND;TZID="Europe/Berlin":20171108T173000
LOCATION:Reichenhainer Str. 90\, Chemnitz (Zentr. Hörsaal- und Seminargebäude)
SUMMARY:Physikalisches Kolloquium (Fakultät für Naturwissenschaften\, Institut für Physik)
DESCRIPTION:Thema: "Versteckte Ordnung in ungeordneten Strukturen: Hyperuniformität in physikalischen Systemen"\nPD Dr. Gerd Schröder-Turk (Murdoch University\, Perth\, Australien)\nProf. Dr. Robert Magerle (Tel.:0371 531 38033 Email: robert.magerle@physik.tu-chemnitz.de)
ORGANIZER:MAILTO:a.kurasch@physik.tu-chemnitz.de
UID:19186@www.tu-chemnitz.de
CREATED:20171017T104200Z
DTSTAMP:20210802T185804Z
END:VEVENT
END:VCALENDAR
