BEGIN:VCALENDAR
VERSION:2.0
PRODID:TU Chemnitz
METHOD:PUBLISH
X-WR-CALNAME:Veranstaltungen der TU Chemnitz
X-WR-TIMEZONE:Europe/Berlin
BEGIN:VEVENT
CLASS:PUBLIC
DTSTART;TZID="Europe/Berlin":20180123T160000
DTEND;TZID="Europe/Berlin":20180123T173000
LOCATION:Reichenhainer Str. 70\, Chemnitz (Weinhold-Bau)
SUMMARY:Kunststofftechnisches Kolloquium (Fakultät für Maschinenbau\, Professur Kunststoffe)
DESCRIPTION:Vortragstitel: TRINSEO Synthesekautschuk Schkopau – Überblick und Ausblick\nDr.-Ing. Christian Hintze\, Trinseo Deutschland GmbH\, Schkopau\nÖffentlicher Vortrag
ORGANIZER:MAILTO:marios.constantinou@mb.tu-chemnitz.de
UID:19185@www.tu-chemnitz.de
CREATED:20171017T101900Z
DTSTAMP:20210802T190129Z
END:VEVENT
END:VCALENDAR
