BEGIN:VCALENDAR
VERSION:2.0
PRODID:TU Chemnitz
METHOD:PUBLISH
X-WR-CALNAME:Veranstaltungen der TU Chemnitz
X-WR-TIMEZONE:Europe/Berlin
BEGIN:VEVENT
CLASS:PUBLIC
DTSTART;TZID="Europe/Berlin":20171022T103000
DTEND;TZID="Europe/Berlin":20171022T113000
LOCATION:Reichenhainer Str. 90\, Chemnitz (Zentr. Hörsaal- und Seminargebäude)
SUMMARY:Zauberhafte Helden in der Kinder-Uni (Zentrum für Wissens- und Technologietransfer\, Kinder-Uni Chemnitz)
DESCRIPTION:"Mogli\, Harry Potter & Co. - Warum mögen wir Helden?": Prof. Cecile Sandten stellt Helden aus der englischen Literatur vor und erklärt\, warum die Helden in Büchern so beliebt sind.\nProf. Dr. Cecile Sandten\nKinder-Uni Chemnitz\, Brita Stingl\, 0371 531-36036\, kinderuni@tu-chemnitz.de
ORGANIZER:MAILTO:brita.stingl@verwaltung.tu-chemnitz.de
UID:19176@www.tu-chemnitz.de
CREATED:20171012T152300Z
DTSTAMP:20210802T185646Z
END:VEVENT
END:VCALENDAR
