BEGIN:VCALENDAR
VERSION:2.0
PRODID:TU Chemnitz
METHOD:PUBLISH
X-WR-CALNAME:Veranstaltungen der TU Chemnitz
X-WR-TIMEZONE:Europe/Berlin
BEGIN:VEVENT
CLASS:PUBLIC
DTSTART;TZID="Europe/Berlin":20171017T170000
DTEND;TZID="Europe/Berlin":20171017T190000
LOCATION:Thüringer Weg 7\, K012
SUMMARY:Dipl.-Vw. Frank Eberhardt referiert im Wirtschaftswissenschaftlichen Forschungsseminar. (Fakultät für Wirtschaftswissenschaften\, VWL IV)
DESCRIPTION:Dipl.-Vw. Frank Eberhardt referiert über "Die staatliche Distributionsfunktion im Zeitalter des Niedrigwachstums". Vortragsreihe im Wirtschaftswissenschaftlichen Forschungsseminar.\nDipl.-Vw. Frank Eberhardt\nDie Teilnahme ist für alle Interessierten kostenlos.
ORGANIZER:MAILTO:julia.tandetzki@s2016.tu-chemnitz.de
UID:19162@www.tu-chemnitz.de
CREATED:20171009T134300Z
DTSTAMP:20210802T185645Z
END:VEVENT
END:VCALENDAR
