BEGIN:VCALENDAR
VERSION:2.0
PRODID:TU Chemnitz
METHOD:PUBLISH
X-WR-CALNAME:Veranstaltungen der TU Chemnitz
X-WR-TIMEZONE:Europe/Berlin
BEGIN:VEVENT
CLASS:PUBLIC
DTSTART;TZID="Europe/Berlin":20180226T100000
DTEND;TZID="Europe/Berlin":20180227T170000
LOCATION:Str. der Nationen 62\, Chemnitz (Böttcher-Bau)
SUMMARY:Academic Writing (TU Chemnitz\, Zentrum für den wissenschaftlichen Nachwuchs)
DESCRIPTION:This Workshop is designed for humanities scholars. The lecturer provides helpful information about developing individual strategies for writing & publishing research articles & theses. A “Toolbox” for academic writing & useful expressions are provided.\nLorraine Mannion\nhttps://www.tu-chemnitz.de/zfwn/weiterbildungsprogramm/index.php
ORGANIZER:MAILTO:nadine.mueller@zfwn.tu-chemnitz.de
UID:19136@www.tu-chemnitz.de
CREATED:20171005T100000Z
DTSTAMP:20210802T190243Z
END:VEVENT
END:VCALENDAR
