BEGIN:VCALENDAR
VERSION:2.0
PRODID:TU Chemnitz
METHOD:PUBLISH
X-WR-CALNAME:Veranstaltungen der TU Chemnitz
X-WR-TIMEZONE:Europe/Berlin
BEGIN:VEVENT
CLASS:PUBLIC
DTSTART;TZID="Europe/Berlin":20180201T090000
DTEND;TZID="Europe/Berlin":20180202T170000
LOCATION:Str. der Nationen 62\, Chemnitz (Böttcher-Bau)
SUMMARY:Disputationstraining (TU Chemnitz\, Zentrum für den wissenschaftlichen Nachwuchs)
DESCRIPTION:Ziel des Seminars ist es\, die Teilnehmenden optimal auf ihre Disputation vorzubereiten. Sie erhalten Tipps zum Aufbau ihres Vortrags und zum Umgang mit kritischen Fragen im Diskussionsteil. Alle gelernten Techniken werden in Praxisübungen trainiert.\nDr. Malte Engel\nhttps://www.tu-chemnitz.de/zfwn/weiterbildungsprogramm/index.php
ORGANIZER:MAILTO:nadine.mueller@zfwn.tu-chemnitz.de
UID:19131@www.tu-chemnitz.de
CREATED:20171004T132800Z
DTSTAMP:20210802T190249Z
END:VEVENT
END:VCALENDAR
