BEGIN:VCALENDAR
VERSION:2.0
PRODID:TU Chemnitz
METHOD:PUBLISH
X-WR-CALNAME:Veranstaltungen der TU Chemnitz
X-WR-TIMEZONE:Europe/Berlin
BEGIN:VEVENT
CLASS:PUBLIC
DTSTART;TZID="Europe/Berlin":20171116T083000
DTEND;TZID="Europe/Berlin":20171117T163000
LOCATION:Str. der Nationen 62\, Chemnitz (Böttcher-Bau)
SUMMARY:Konfliktmanagement\, Kommunikation\, Körpersprache (TU Chemnitz\, Zentrum für den wissenschaftlichen Nachwuchs)
DESCRIPTION:Der Workshop widmet sich den Grundlagen und elementaren Bestandteilen einer konstruktiven Auflösung von schwierigen Situationen und vermittelt die dazugehörenden kommunikativen und körpersprachlichen Strategien\, die auch präventiv wirken.\nAndrea Dufner\nhttps://www.tu-chemnitz.de/zfwn/weiterbildungsprogramm/index.php
ORGANIZER:MAILTO:nadine.mueller@zfwn.tu-chemnitz.de
UID:19126@www.tu-chemnitz.de
CREATED:20171004T131500Z
DTSTAMP:20210802T185756Z
END:VEVENT
END:VCALENDAR
