BEGIN:VCALENDAR
VERSION:2.0
PRODID:TU Chemnitz
METHOD:PUBLISH
X-WR-CALNAME:Veranstaltungen der TU Chemnitz
X-WR-TIMEZONE:Europe/Berlin
BEGIN:VEVENT
CLASS:PUBLIC
DTSTART;TZID="Europe/Berlin":20011107T195500
DTEND;TZID="Europe/Berlin":20011107T195500
LOCATION:
SUMMARY:Cocktailabend (Studentenkeller)
DESCRIPTION:Trotz Baumaßnahmen gibt es am Mittwoch im Keller wie gewohnt\nleckere Cocktails\, gute Musik und tolle Stimmung. Los gehts um 20 Uhr.
ORGANIZER:MAILTO:fdo@hrz.tu-chemnitz.de
UID:1912@www.tu-chemnitz.de
CREATED:20011105T103600Z
DTSTAMP:20210802T202649Z
END:VEVENT
END:VCALENDAR
