BEGIN:VCALENDAR
VERSION:2.0
PRODID:TU Chemnitz
METHOD:PUBLISH
X-WR-CALNAME:Veranstaltungen der TU Chemnitz
X-WR-TIMEZONE:Europe/Berlin
BEGIN:VEVENT
CLASS:PUBLIC
DTSTART;TZID="Europe/Berlin":20171005T093000
DTEND;TZID="Europe/Berlin":20171005T103000
LOCATION:Reichenhainer Str. 90\, Chemnitz (Zentr. Hörsaal- und Seminargebäude)
SUMMARY:Einführungsveranstaltung zu den Studiengängen der Politikwissenschaft (Philosophische Fakultät\, Politische Theorie und Ideengeschichte)
DESCRIPTION:Das Institut für Politikwissenschaft heißt die neu immatrikulierten Studierenden willkommen. In der Veranstaltung werden Hinweise für die ersten Schritte im Studium vermittelt.\nDr. Ellen Thümmler\nEllen Thümmler\, 0371 531 37157\, ellen.thuemmler@phil.tu-chemnitz.de
ORGANIZER:MAILTO:ellen.thuemmler@phil.tu-chemnitz.de
UID:19114@www.tu-chemnitz.de
CREATED:20170927T171000Z
DTSTAMP:20210802T185638Z
END:VEVENT
END:VCALENDAR
