BEGIN:VCALENDAR
VERSION:2.0
PRODID:TU Chemnitz
METHOD:PUBLISH
X-WR-CALNAME:Veranstaltungen der TU Chemnitz
X-WR-TIMEZONE:Europe/Berlin
BEGIN:VEVENT
CLASS:PUBLIC
DTSTART;TZID="Europe/Berlin":20171207T093000
DTEND;TZID="Europe/Berlin":20171214T173000
LOCATION:Pegasus-Center\, Chemnitz
SUMMARY:Recht für Gründer (zweitägiger Workshop) (Zentrum für Wissens- und Technologietransfer\, Gründernetzwerk SAXEED)
DESCRIPTION:Es wird rechtliches Vorwissen am Beispiel einer Neugründung besprochen und auf die juristischen Alltagsprobleme der neuen Unternehmung eingegangen. Weiterhin werden rechtliche Grundlagen im Falle eines Scheiterns vermittelt und Haftungsrisiken vorgestellt\nGernot Kirchner\nhttps://www.saxeed.net/termin/recht-fuer-gruender-2
ORGANIZER:MAILTO:jessica.thieme@s2014.tu-chemnitz.de
UID:19099@www.tu-chemnitz.de
CREATED:20170922T142800Z
DTSTAMP:20210802T185946Z
END:VEVENT
END:VCALENDAR
