BEGIN:VCALENDAR
VERSION:2.0
PRODID:TU Chemnitz
METHOD:PUBLISH
X-WR-CALNAME:Veranstaltungen der TU Chemnitz
X-WR-TIMEZONE:Europe/Berlin
BEGIN:VEVENT
CLASS:PUBLIC
DTSTART;TZID="Europe/Berlin":20171115T090000
DTEND;TZID="Europe/Berlin":20171115T140000
LOCATION:Pegasus-Center\, Chemnitz
SUMMARY:Frei(beruflic)h(k)eit und Steuern (Zentrum für Wissens- und Technologietransfer\, Gründernetzwerk SAXEED)
DESCRIPTION:Der Schritt in die Selbstständigkeit muss nicht mit der Gründung einer GmbH beginnen. Sein Wissen und die eigene Leistung zu verkaufen\, kann schon nebenbei im Studium passieren. Tipps und Tricks erfährst Du von Steuerberater A. Haueis in diesem Workshop.\nAndré Haueis\nhttps://www.saxeed.net/termin/freiberuflichkeit-und-steuern
ORGANIZER:MAILTO:jessica.thieme@s2014.tu-chemnitz.de
UID:19095@www.tu-chemnitz.de
CREATED:20170922T141800Z
DTSTAMP:20210802T185759Z
END:VEVENT
END:VCALENDAR
