BEGIN:VCALENDAR
VERSION:2.0
PRODID:TU Chemnitz
METHOD:PUBLISH
X-WR-CALNAME:Veranstaltungen der TU Chemnitz
X-WR-TIMEZONE:Europe/Berlin
BEGIN:VEVENT
CLASS:PUBLIC
DTSTART;TZID="Europe/Berlin":20171129T170000
DTEND;TZID="Europe/Berlin":20171129T190000
LOCATION:Reichenhainer Str. 55\, Chemnitz (Mensa)
SUMMARY:Elternstammtisch: "Wo drückt der Schuh?" (TU Chemnitz)
DESCRIPTION:"Wo drückt der Schuh?" - Angebote für Kinder und Familien in Chemnitz - eine offene Fragerunde beleuchtet den Arbeitsalltag der Kinder- u. Jugendbeauftragten der Stadt Chemnitz. Eingeladen sind Eltern sowie Interessierte\, um Ideen und Fragen einzubringen.\nUte Spindler\nIsabell Höfner\, 0371/531-30101\, familienservice@tu-chemnitz.de
ORGANIZER:MAILTO:hoei@hrz.tu-chemnitz.de
UID:19094@www.tu-chemnitz.de
CREATED:20170922T103500Z
DTSTAMP:20210802T185805Z
END:VEVENT
END:VCALENDAR
