BEGIN:VCALENDAR
VERSION:2.0
PRODID:TU Chemnitz
METHOD:PUBLISH
X-WR-CALNAME:Veranstaltungen der TU Chemnitz
X-WR-TIMEZONE:Europe/Berlin
BEGIN:VEVENT
CLASS:PUBLIC
DTSTART;TZID="Europe/Berlin":20171026T090000
DTEND;TZID="Europe/Berlin":20171026T153000
LOCATION:Str. der Nationen 62\, Chemnitz (Altes Heizhaus)
SUMMARY:Studieren mit einer psychischen Beeinträchtigung (TU Chemnitz\, Dr. Daniela Menzel)
DESCRIPTION:11 % aller Studierenden sind in ihrem Studium beeinträchtigt (DSW 2017)\, am häufigsten durch psychische Erkrankungen. Ziel ist\, die Akzeptanz für psychisch erkrankte Studierende zu erhöhen und ihrer Stigmatisierung entgegenzuwirken.\nDr. Daniela Menzel / Leonie Plenz\nDr. Daniela Menzel\, 34939\, daniela.menzel@verwaltung.tu-chemnitz.de
ORGANIZER:MAILTO:daniela.menzel@verwaltung.tu-chemnitz.de
UID:19092@www.tu-chemnitz.de
CREATED:20170921T150700Z
DTSTAMP:20210802T185646Z
END:VEVENT
END:VCALENDAR
