BEGIN:VCALENDAR
VERSION:2.0
PRODID:TU Chemnitz
METHOD:PUBLISH
X-WR-CALNAME:Veranstaltungen der TU Chemnitz
X-WR-TIMEZONE:Europe/Berlin
BEGIN:VEVENT
CLASS:PUBLIC
DTSTART;TZID="Europe/Berlin":20171011T160000
DTEND;TZID="Europe/Berlin":20171011T173000
LOCATION:Reichenhainer Str. 90\, Chemnitz (Zentr. Hörsaal- und Seminargebäude)
SUMMARY:Physikalisches Kolloquium (Fakultät für Naturwissenschaften\, Institut für Physik)
DESCRIPTION:Thema: "Sensory predictions of complex spectrotemporal sound patterns"\nDr. Sabine Grimm (Professur Struktur und Funktion kognitiver Systeme\, TU Chemnitz)\nThomas Seyller (Tel: 32898\, Email: thomas.seyller@physik.tu-chemnitz.de)
ORGANIZER:MAILTO:a.kurasch@physik.tu-chemnitz.de
UID:19078@www.tu-chemnitz.de
CREATED:20170914T140300Z
DTSTAMP:20210802T185637Z
END:VEVENT
END:VCALENDAR
