BEGIN:VCALENDAR
VERSION:2.0
PRODID:TU Chemnitz
METHOD:PUBLISH
X-WR-CALNAME:Veranstaltungen der TU Chemnitz
X-WR-TIMEZONE:Europe/Berlin
BEGIN:VEVENT
CLASS:PUBLIC
DTSTART;TZID="Europe/Berlin":20171006T090000
DTEND;TZID="Europe/Berlin":20171006T130000
LOCATION:Reichenhainer Str. 90\, Chemnitz (Zentr. Hörsaal- und Seminargebäude)
SUMMARY:First Semester Welcome (Philosophische Fakultät\, Institut für Anglistik/Amerikanistik)
DESCRIPTION:Bei der Erstsemesterbegrüßung des Instituts für Anglistik/Amerikanistik stellen sich die Professuren und Fachbereiche vor und beantworten alle Fragen von neuen Bachelor- u. Masterstudierenden für einen erfolgreichen Start ins Studium.\nProf. Dr. Cecile Sandten\, Mandy Beck\, Oliver Sachs (IUZ)\nCecile Sandten\, 0371/531-37353\, cecile.sandten@phil.tu-chemnitz.de
ORGANIZER:MAILTO:mandy.beck@phil.tu-chemnitz.de
UID:19074@www.tu-chemnitz.de
CREATED:20170912T131800Z
DTSTAMP:20210802T185638Z
END:VEVENT
END:VCALENDAR
