BEGIN:VCALENDAR
VERSION:2.0
PRODID:TU Chemnitz
METHOD:PUBLISH
X-WR-CALNAME:Veranstaltungen der TU Chemnitz
X-WR-TIMEZONE:Europe/Berlin
BEGIN:VEVENT
CLASS:PUBLIC
DTSTART;TZID="Europe/Berlin":20020131T190000
DTEND;TZID="Europe/Berlin":20020131T203000
LOCATION:Reichenhainer Str. 70\, Chemnitz (Zentr. Hörsaal- und Seminargebäude)
SUMMARY:Die Wanderer-Werke Chemnitz 1894-1915 (Philosophische Fakultät\, Kolloquium der Lehrstühle Wirtschafts- und Sozialgeschichte/Geschichte des Mittelalters)
DESCRIPTION:Achtung! Der Vortrag von Herrn KÜNZEL muß leider ausfallen. Angaben zum Kolloquiums-Programm des kommenden Sommersemesters zu Beginn des Semesters durch Aushang!\nAndreas Künzel (Chemnitz)\neva.pietsch@phil.tu-chemnitz.de
ORGANIZER:MAILTO:pev@hrz.tu-chemnitz.de
UID:1907@www.tu-chemnitz.de
CREATED:20011101T140400Z
DTSTAMP:20210802T202613Z
END:VEVENT
END:VCALENDAR
