BEGIN:VCALENDAR
VERSION:2.0
PRODID:TU Chemnitz
METHOD:PUBLISH
X-WR-CALNAME:Veranstaltungen der TU Chemnitz
X-WR-TIMEZONE:Europe/Berlin
BEGIN:VEVENT
CLASS:PUBLIC
DTSTART;TZID="Europe/Berlin":20171210T150000
DTEND;TZID="Europe/Berlin":20171210T170000
LOCATION:Neue Sächsische Galerie\, Moritzstraße 20\, 09111 Chemnitz
SUMMARY:Wollen wir ewig die Waffen | Weihnachten 1917 - CollageKonzert (Philosophische Fakultät\, Romanische Kulturwissenschaft)
DESCRIPTION:Geteilte Erinnerungen in der Weihnachtszeit 2017 lässt nicht nur aufleben\, dass vor 100 Jahren Krieg in Europa herrschte\, sondern auch\, dass kulturelle Leistungen aus aller Welt Krieg und Propaganda trotzten.\nEintritt frei\, keine Anmeldung erforderlich
ORGANIZER:MAILTO:uwe.rabe@phil.tu-chemnitz.de
UID:19068@www.tu-chemnitz.de
CREATED:20170907T130800Z
DTSTAMP:20210802T185944Z
END:VEVENT
END:VCALENDAR
