BEGIN:VCALENDAR
VERSION:2.0
PRODID:TU Chemnitz
METHOD:PUBLISH
X-WR-CALNAME:Veranstaltungen der TU Chemnitz
X-WR-TIMEZONE:Europe/Berlin
BEGIN:VEVENT
CLASS:PUBLIC
DTSTART;TZID="Europe/Berlin":20171101T134500
DTEND;TZID="Europe/Berlin":20171102T170000
LOCATION:Reichenhainer Str. 70\, Chemnitz (Rühlmann-Bau)
SUMMARY:Dynamische Webseiten mit Javascript (Universitätsrechenzentrum)
DESCRIPTION:Einführung in die Programmiersprache Javascript\, behandelt werden die grundlegenden Funktionalitäten: dynamische Veränderung von HTML-Elementen und Styles\, Verarbeitung von Nutzerinteraktionen\, Laden von Inhalten via AJAX\, Teil 2: `npm`  und `webpack`\nT. Gall\nAnmeldung über OPAL: https://mytuc.org/djff
ORGANIZER:MAILTO:antje.schreiber@hrz.tu-chemnitz.de
UID:19057@www.tu-chemnitz.de
CREATED:20170828T130300Z
DTSTAMP:20210802T185754Z
END:VEVENT
END:VCALENDAR
