BEGIN:VCALENDAR
VERSION:2.0
PRODID:TU Chemnitz
METHOD:PUBLISH
X-WR-CALNAME:Veranstaltungen der TU Chemnitz
X-WR-TIMEZONE:Europe/Berlin
BEGIN:VEVENT
CLASS:PUBLIC
DTSTART;TZID="Europe/Berlin":20020110T190000
DTEND;TZID="Europe/Berlin":20020110T203000
LOCATION:Reichenhainer Str. 70\, Chemnitz (Zentr. Hörsaal- und Seminargebäude)
SUMMARY:Die parlamentarische Elite im Königreich Sachsen 1869 bis 1918 (Philosophische Fakultät\, Kolloquium der Lehrstühle Wirtschafts- und Sozialgeschichte/Geschichte des Mittelalters)
DESCRIPTION:Prof. Dr. Wolfgang Schröder (Taucha)\neva.pietsch@phil.tu-chemnitz.de
ORGANIZER:MAILTO:pev@hrz.tu-chemnitz.de
UID:1905@www.tu-chemnitz.de
CREATED:20011101T135900Z
DTSTAMP:20210802T202618Z
END:VEVENT
END:VCALENDAR
