BEGIN:VCALENDAR
VERSION:2.0
PRODID:TU Chemnitz
METHOD:PUBLISH
X-WR-CALNAME:Veranstaltungen der TU Chemnitz
X-WR-TIMEZONE:Europe/Berlin
BEGIN:VEVENT
CLASS:PUBLIC
DTSTART;TZID="Europe/Berlin":20171115T134500
DTEND;TZID="Europe/Berlin":20171116T170000
LOCATION:Reichenhainer Str. 70\, Chemnitz (Rühlmann-Bau)
SUMMARY:Bildbearbeitung mit GIMP (Universitätsrechenzentrum)
DESCRIPTION:Grundlegendes zum Aufbau von Bildern\, Benutzeroberfläche\, Auswahl-\, Mal- und Farbwerkzeuge\, Transformationen\, Ebenen\, Kanäle und Pfade\, Filter\, Skript-FU und Plugins\,    Panoramas mit Hugin\nA. Heik\nAnmeldung über OPAL: https://mytuc.org/wfzq
ORGANIZER:MAILTO:antje.schreiber@hrz.tu-chemnitz.de
UID:19041@www.tu-chemnitz.de
CREATED:20170818T150200Z
DTSTAMP:20210802T185755Z
END:VEVENT
END:VCALENDAR
