BEGIN:VCALENDAR
VERSION:2.0
PRODID:TU Chemnitz
METHOD:PUBLISH
X-WR-CALNAME:Veranstaltungen der TU Chemnitz
X-WR-TIMEZONE:Europe/Berlin
BEGIN:VEVENT
CLASS:PUBLIC
DTSTART;TZID="Europe/Berlin":20011211T190000
DTEND;TZID="Europe/Berlin":20011211T200000
LOCATION:Reichenhainer Str. 70\, Chemnitz (Zentr. Hörsaal- und Seminargebäude)
SUMMARY:\"Fortuna und Methode. Überlegungen zur Kulturgeschichte von Geld und Reichtum um 1800\" (Philosophische Fakultät\, Kolloquium der Lehrstühle Wirtschafts- und Sozialgeschichte und Geschichte des Mittelalters)
DESCRIPTION:Antrittsvortrag zur Ernennung als Privatdozentin der Philosophischen Fakultät \n(Achtung: Dienstags-termin!)\nPD Dr. Heidrun Homburg (Chemnitz)\neva.pietsch@phil.tu-chemnitz.de; karla.kebsch@phil.tu-chemnitz.de
ORGANIZER:MAILTO:pev@hrz.tu-chemnitz.de
UID:1904@www.tu-chemnitz.de
CREATED:20011101T135600Z
DTSTAMP:20210802T202622Z
END:VEVENT
END:VCALENDAR
