BEGIN:VCALENDAR
VERSION:2.0
PRODID:TU Chemnitz
METHOD:PUBLISH
X-WR-CALNAME:Veranstaltungen der TU Chemnitz
X-WR-TIMEZONE:Europe/Berlin
BEGIN:VEVENT
CLASS:PUBLIC
DTSTART;TZID="Europe/Berlin":20170808T210000
DTEND;TZID="Europe/Berlin":20170808T230000
LOCATION:Filmclub "mittendrin"\, Reichenhainer Str. 35/37\, Keller Mittelbau
SUMMARY:Kurzfilmabend: SHORTS ATTACK - SUNDANCE SHORTS 2017 ("mittendrin" - das campuskino)
DESCRIPTION:Das berühmte Indie Film Festival hat auch eine Shorts Section. Die 2017 "Sundance Film Festival Short Film Tour" präsentiert 7 Kurzfilme mit den Gewinnern des diesjährigen Festivals und Highlights\, wie dem Regiedebüt von Kristen Stewart.\nfilmclub@tu-chemnitz.de
ORGANIZER:MAILTO:alena.sadowski@s2012.tu-chemnitz.de
UID:19011@www.tu-chemnitz.de
CREATED:20170731T090300Z
DTSTAMP:20210802T185435Z
END:VEVENT
END:VCALENDAR
