BEGIN:VCALENDAR
VERSION:2.0
PRODID:TU Chemnitz
METHOD:PUBLISH
X-WR-CALNAME:Veranstaltungen der TU Chemnitz
X-WR-TIMEZONE:Europe/Berlin
BEGIN:VEVENT
CLASS:PUBLIC
DTSTART;TZID="Europe/Berlin":20170914T170000
DTEND;TZID="Europe/Berlin":20170917T120000
LOCATION:Reichenhainer Str. 90\, Chemnitz (Zentr. Hörsaal- und Seminargebäude)
SUMMARY:6. Studentischer Soziologiekongress: "Alle(s) in Bewegung - Dynamiken und Wandel der Gesellschaft" (Fakultät für Human- und Sozialwissenschaften\, Institut für Soziologie)
DESCRIPTION:Unter dem Titel "Alle(s) in Bewegung - Dynamiken und Wandel der Gesellschaft"\, stellen Studenten ihre wissenschaftlichen Arbeiten vor. Dazu gibt es ein vielfältiges Rahmenprogramm\, rund um das Thema Bewegung. Anmeldungen über die Homepage sind erwünscht!\nAnmeldungen über http://soziologiekongress.de/ \, info@soziologiekongress.de
ORGANIZER:MAILTO:rita.sanftenberg@s2013.tu-chemnitz.de
UID:19003@www.tu-chemnitz.de
CREATED:20170722T135900Z
DTSTAMP:20210802T185542Z
END:VEVENT
END:VCALENDAR
