BEGIN:VCALENDAR
VERSION:2.0
PRODID:TU Chemnitz
METHOD:PUBLISH
X-WR-CALNAME:Veranstaltungen der TU Chemnitz
X-WR-TIMEZONE:Europe/Berlin
BEGIN:VEVENT
CLASS:PUBLIC
DTSTART;TZID="Europe/Berlin":20171005T103000
DTEND;TZID="Europe/Berlin":20171005T120000
LOCATION:Str. der Nationen 62\, Chemnitz (Böttcher-Bau)
SUMMARY:Einführungsveranstaltung zum Studiengang Lehramt an Grundschulen (Zentrum für Lehrerbildung)
DESCRIPTION:Im Rahmen der Veranstaltung erhalten Sie alle Informationen zum Studienbeginn und zur Studienorganisation für das 1. Fachsemester.\nzlb@tu-chemnitz.de
ORGANIZER:MAILTO:sabrina.theiler@zlb.tu-chemnitz.de
UID:19000@www.tu-chemnitz.de
CREATED:20170719T114200Z
DTSTAMP:20210802T185641Z
END:VEVENT
END:VCALENDAR
