BEGIN:VCALENDAR
VERSION:2.0
PRODID:TU Chemnitz
METHOD:PUBLISH
X-WR-CALNAME:Veranstaltungen der TU Chemnitz
X-WR-TIMEZONE:Europe/Berlin
BEGIN:VEVENT
CLASS:PUBLIC
DTSTART;TZID="Europe/Berlin":20170810T153000
DTEND;TZID="Europe/Berlin":20170810T180000
LOCATION:eniPROD-Gebäude (M-Bau)\, Raum M001
SUMMARY:Gestaltung für und mit virtuellen Techniken (Fakultät für Maschinenbau\, Professur Werkzeugmaschinen und Umformtechnik)
DESCRIPTION:Im Rahmen der Reihe "Arbeitsgespräche virtuelle Techniken" werden Herr Paul Kirsten und Herr Roman Achleitner von Ihren Anwendungen und Nutzungsbeispielen im Bereich Design\, Gestaltung interaktiver Visualisierungen und Nutzerschnittstellen berichten.\nPaul Kirsten (prefrontal cortex)\, Roman Achleitner (designaffairs)\nEckhart Wittstock\, 0371-531-37667\, eckhart.wittstock@mb.tu-chemnitz.de
ORGANIZER:MAILTO:eckhart.wittstock@mb.tu-chemnitz.de
UID:18998@www.tu-chemnitz.de
CREATED:20170714T141300Z
DTSTAMP:20210802T185435Z
END:VEVENT
END:VCALENDAR
