BEGIN:VCALENDAR
VERSION:2.0
PRODID:TU Chemnitz
METHOD:PUBLISH
X-WR-CALNAME:Veranstaltungen der TU Chemnitz
X-WR-TIMEZONE:Europe/Berlin
BEGIN:VEVENT
CLASS:PUBLIC
DTSTART;TZID="Europe/Berlin":20170714T133000
DTEND;TZID="Europe/Berlin":20170714T150000
LOCATION:Reichenhainer Str. 70\, Chemnitz (Weinhold-Bau)
SUMMARY:Vortrag "Messung thermophysikalischer Eigenschaften von Feststoffen mit unterschiedlichen Strukturen" (Fakultät für Maschinenbau\, Sonderforschungsbereich/TR 39 PT-PIESA)
DESCRIPTION:Frau Dr.-Ing. Rhena Wulf lehrt am Institut für Wärmetechnik und Thermodynamik\, Lehrstuhl für Technische Thermodynamik\, der TU Bergakademie Freiberg. Im Vortrag werden Methoden und Erfahrungen thematisiert.\nDr.-Ing. Rhena Wulf\nDr.-Ing. Ralf Landgraf\, 0371-531 37455\, ralf.landgraf@mb.tu-chemnitz.de
ORGANIZER:MAILTO:mandy.polster@mb.tu-chemnitz.de
UID:18991@www.tu-chemnitz.de
CREATED:20170711T125400Z
DTSTAMP:20210802T185321Z
END:VEVENT
END:VCALENDAR
