BEGIN:VCALENDAR
VERSION:2.0
PRODID:TU Chemnitz
METHOD:PUBLISH
X-WR-CALNAME:Veranstaltungen der TU Chemnitz
X-WR-TIMEZONE:Europe/Berlin
BEGIN:VEVENT
CLASS:PUBLIC
DTSTART;TZID="Europe/Berlin":20170711T210000
DTEND;TZID="Europe/Berlin":20170711T230000
LOCATION:Filmclub "mittendrin"\, Reichenhainer Str. 35/37\, Keller Mittelbau
SUMMARY:Kino: JACKIE - DIE FIRST LADY ("mittendrin" - das campuskino)
DESCRIPTION:Der JFK-Mord aus Sicht der First Lady. \nEine grandiose Natalie Portman spielt Jacqueline "Jackie" Kennedy in dem oscarnominierten Biopic. \nAmerika\, der Mythos JFK und die Symbolpolitik der Kennedy-Witwe: Beklemmend\, bestechend\, unter die Haut gehend.\nfilmclub@tu-chemnitz.de
ORGANIZER:MAILTO:christina.axt@s2010.tu-chemnitz.de
UID:18977@www.tu-chemnitz.de
CREATED:20170709T174900Z
DTSTAMP:20210802T185315Z
END:VEVENT
END:VCALENDAR
