BEGIN:VCALENDAR
VERSION:2.0
PRODID:TU Chemnitz
METHOD:PUBLISH
X-WR-CALNAME:Veranstaltungen der TU Chemnitz
X-WR-TIMEZONE:Europe/Berlin
BEGIN:VEVENT
CLASS:PUBLIC
DTSTART;TZID="Europe/Berlin":20170706T210000
DTEND;TZID="Europe/Berlin":20170706T230000
LOCATION:Filmclub "mittendrin"\, Reichenhainer Str. 35/37\, Keller Mittelbau
SUMMARY:Kino: THE GIRL WITH ALL THE GIFTS ("mittendrin" - das campuskino)
DESCRIPTION:Zombie-Apokalypse\, diesmal in England: C. McCarthy dreht das Genre um und macht eines der infizierten Kinder zum Hoffnungsträger für die wenigen überlebenden Menschen gegen die Hungrigen. Kongeniale Verfilmung des Endzeit-Bestsellers von Mike Carey.\nfilmclub@tu-chemnitz.de
ORGANIZER:MAILTO:christina.axt@s2010.tu-chemnitz.de
UID:18973@www.tu-chemnitz.de
CREATED:20170705T133100Z
DTSTAMP:20210802T185322Z
END:VEVENT
END:VCALENDAR
