BEGIN:VCALENDAR
VERSION:2.0
PRODID:TU Chemnitz
METHOD:PUBLISH
X-WR-CALNAME:Veranstaltungen der TU Chemnitz
X-WR-TIMEZONE:Europe/Berlin
BEGIN:VEVENT
CLASS:PUBLIC
DTSTART;TZID="Europe/Berlin":20170620T210000
DTEND;TZID="Europe/Berlin":20170620T230000
LOCATION:Filmclub "mittendrin"\, Reichenhainer Str. 35/37\, Keller Mittelbau
SUMMARY:Kino: LA LA LAND (OmU) ("mittendrin" - das campuskino)
DESCRIPTION:Tanzen und träumen unter dem Himmel von Los Angeles: La La Land besinnt sich wunderbar seifenblasig auf die goldene Musical-Zeit Hollywoods. Von der warmen Romantik ist die kühle Realität jedoch nie weit entfernt.\n>> Tonight in ENGLISH + German subs!\nfilmclub@tu-chemnitz.de
ORGANIZER:MAILTO:christina.axt@s2010.tu-chemnitz.de
UID:18933@www.tu-chemnitz.de
CREATED:20170613T000200Z
DTSTAMP:20210802T185138Z
END:VEVENT
END:VCALENDAR
