BEGIN:VCALENDAR
VERSION:2.0
PRODID:TU Chemnitz
METHOD:PUBLISH
X-WR-CALNAME:Veranstaltungen der TU Chemnitz
X-WR-TIMEZONE:Europe/Berlin
BEGIN:VEVENT
CLASS:PUBLIC
DTSTART;VALUE=DATE:20170714
DTEND;VALUE=DATE:20170714
LOCATION:Altes Heizhaus
SUMMARY:Corpus Linguistics & Digital Humanities Conference (Philosophische Fakultät\, Englische Sprachwissenschaft)
DESCRIPTION:The conference will provide a forum for discussion on “digital” methodologies in a wide sense. We encourage students from other disciplines in particular to use corpus linguistic and digital humanities methodologies to pursue their own research areas.\nrealcentre@phil.tu-chemnitz.de
ORGANIZER:MAILTO:annegret.messner@phil.tu-chemnitz.de
UID:18919@www.tu-chemnitz.de
CREATED:20170607T112900Z
DTSTAMP:20210802T185320Z
END:VEVENT
END:VCALENDAR
