BEGIN:VCALENDAR
VERSION:2.0
PRODID:TU Chemnitz
METHOD:PUBLISH
X-WR-CALNAME:Veranstaltungen der TU Chemnitz
X-WR-TIMEZONE:Europe/Berlin
BEGIN:VEVENT
CLASS:PUBLIC
DTSTART;TZID="Europe/Berlin":20170608T113000
DTEND;TZID="Europe/Berlin":20170608T130000
LOCATION:Reichenhainer Str. 90\, Chemnitz (Zentr. Hörsaal- und Seminargebäude)
SUMMARY:Spionage und Spionageabwehr im Wandel der Zeit. Herausforderung für Politik und Verwaltung (Philosophische Fakultät\, Internationale Politik)
DESCRIPTION:Dr. Kai-Holmger Kretschmer\, Referatsleiter Wirtschaftsschutz\, Landesamt für Verfassungsschutz Sachsen\nAnja Liebe\, +49 371 531-27730\, anja.liebe@phil.tu-chemnitz.de
ORGANIZER:MAILTO:patrick.thost@s2014.tu-chemnitz.de
UID:18915@www.tu-chemnitz.de
CREATED:20170601T120100Z
DTSTAMP:20210802T185140Z
END:VEVENT
END:VCALENDAR
