BEGIN:VCALENDAR
VERSION:2.0
PRODID:TU Chemnitz
METHOD:PUBLISH
X-WR-CALNAME:Veranstaltungen der TU Chemnitz
X-WR-TIMEZONE:Europe/Berlin
BEGIN:VEVENT
CLASS:PUBLIC
DTSTART;TZID="Europe/Berlin":20011119T190000
DTEND;TZID="Europe/Berlin":20011119T210000
LOCATION:Wilhelm-Raabe-Str. 43\, Chemnitz
SUMMARY:Vortragsreihe Berufsfelderkundung: Betriebliche Gesundheitsförderung - ein organisationspsychologisches Arbeitsfeld  (Philosophische Fakultät\, Praktikumsamt)
DESCRIPTION:Dipl.-Psych. Andreas Wenzel\, AOK Chemnitz\, Abteilung Gesundheitsförderung\nkarla.kebsch@phil.tu-chemnitz.de
ORGANIZER:MAILTO:keka@hrz.tu-chemnitz.de
UID:1891@www.tu-chemnitz.de
CREATED:20011030T101800Z
DTSTAMP:20210802T202640Z
END:VEVENT
END:VCALENDAR
