BEGIN:VCALENDAR
VERSION:2.0
PRODID:TU Chemnitz
METHOD:PUBLISH
X-WR-CALNAME:Veranstaltungen der TU Chemnitz
X-WR-TIMEZONE:Europe/Berlin
BEGIN:VEVENT
CLASS:PUBLIC
DTSTART;TZID="Europe/Berlin":20170613T160000
DTEND;TZID="Europe/Berlin":20170613T173000
LOCATION:Erfenschlager Str. 73\, Chemnitz
SUMMARY:Informatik-Kolloquium (Fakultät für Informatik\, Professur Technische Informatik)
DESCRIPTION:Vortrag zum Thema: "Virtuelle Absicherung – Digitale Probefahrt"\nProf. Dr. Ralf Reißing (Hochschule Coburg)\ndekanat@informatik.tu-chemnitz.de
ORGANIZER:MAILTO:heike.lasch@informatik.tu-chemnitz.de
UID:18900@www.tu-chemnitz.de
CREATED:20170530T112900Z
DTSTAMP:20210802T185137Z
END:VEVENT
END:VCALENDAR
