BEGIN:VCALENDAR
VERSION:2.0
PRODID:TU Chemnitz
METHOD:PUBLISH
X-WR-CALNAME:Veranstaltungen der TU Chemnitz
X-WR-TIMEZONE:Europe/Berlin
BEGIN:VEVENT
CLASS:PUBLIC
DTSTART;TZID="Europe/Berlin":20170607T134500
DTEND;TZID="Europe/Berlin":20170607T153000
LOCATION:Reichenhainer Str. 90\, Chemnitz (Zentr. Hörsaal- und Seminargebäude)
SUMMARY:„Fachchinesisch“? – Studierende aus China in den Prüfungen (TU Chemnitz\, Junior-Professur Interkulturelle Kompetenz)
DESCRIPTION:„Das grenzt am Plagiat!“ – diese und ähnliche Urteile sind besonders oft in Bezug auf die Prüfungsleistungen der Studierenden aus China zu hören. Wie kann man diese Herausforderungen bei der Gestaltung von verschiedenen Prüfungsformen lösen?\nJun.-Prof. Dr. Gala Rebane\, Dr. Anne-Coralie Bonnaire\, Jiayun Xuan\nintegration-esf@tu-chemnitz.de
ORGANIZER:MAILTO:anne-coralie.bonnaire@phil.tu-chemnitz.de
UID:18884@www.tu-chemnitz.de
CREATED:20170525T092800Z
DTSTAMP:20210802T185133Z
END:VEVENT
END:VCALENDAR
