BEGIN:VCALENDAR
VERSION:2.0
PRODID:TU Chemnitz
METHOD:PUBLISH
X-WR-CALNAME:Veranstaltungen der TU Chemnitz
X-WR-TIMEZONE:Europe/Berlin
BEGIN:VEVENT
CLASS:PUBLIC
DTSTART;TZID="Europe/Berlin":20170529T190000
DTEND;TZID="Europe/Berlin":20170529T203000
LOCATION:Reichenhainer Str. 90\, Chemnitz (Zentr. Hörsaal- und Seminargebäude)
SUMMARY:Cradle to Cradle Designkonzepte  (TU Chemnitz\, Betriebliche Umweltökonomie)
DESCRIPTION: Boris Kaiser referiert im Rahmen der Veranstaltungen Betriebliche Umweltökonomie und Nachhaltigkeitsmanagement sowie Instrumente im Umwelt- und Nachhaltigkeitsmanagement zum Thema Cradle to Cradle Designkonzepte.\nBoris Kaiser\nrenate.oehme@wirtschaft.tu-chemnitz.de
ORGANIZER:MAILTO:renate.oehme@wirtschaft.tu-chemnitz.de
UID:18881@www.tu-chemnitz.de
CREATED:20170524T162900Z
DTSTAMP:20210802T185015Z
END:VEVENT
END:VCALENDAR
