BEGIN:VCALENDAR
VERSION:2.0
PRODID:TU Chemnitz
METHOD:PUBLISH
X-WR-CALNAME:Veranstaltungen der TU Chemnitz
X-WR-TIMEZONE:Europe/Berlin
BEGIN:VEVENT
CLASS:PUBLIC
DTSTART;TZID="Europe/Berlin":20170624T180000
DTEND;TZID="Europe/Berlin":20170625T010000
LOCATION:Str. der Nationen 62\, Chemnitz (Böttcher-Bau)
SUMMARY:TUCsommernacht (TU Chemnitz\, Universitätskommunikation)
DESCRIPTION:Erleben Sie gemeinsam mit Ihrer Begleitung eine besondere Atmosphäre.Genießen Sie eine schöne Sommernacht mit ausgewähltem Musik- und Unterhaltungsprogramm\, kulinarischen Genüssen und interessanten Begegnungen.\nUniversitätskommunikation\, 0371 531-11111
ORGANIZER:MAILTO:julita.schmidt@verwaltung.tu-chemnitz.de
UID:18872@www.tu-chemnitz.de
CREATED:20170523T123000Z
DTSTAMP:20210802T185136Z
END:VEVENT
END:VCALENDAR
