BEGIN:VCALENDAR
VERSION:2.0
PRODID:TU Chemnitz
METHOD:PUBLISH
X-WR-CALNAME:Veranstaltungen der TU Chemnitz
X-WR-TIMEZONE:Europe/Berlin
BEGIN:VEVENT
CLASS:PUBLIC
DTSTART;TZID="Europe/Berlin":20170615T160000
DTEND;TZID="Europe/Berlin":20170615T173000
LOCATION:Reichenhainer Str. 70\, Chemnitz (Rühlmann-Bau)
SUMMARY:Chemnitzer Mathematisches Colloquium (Fakultät für Mathematik)
DESCRIPTION:Thema: Local Asymptotic Equivalence of Pure Quantum States Ensembles and Quantum Gaussian White Noise\nProf. Dr. Michael Nussbaum\, Cornell University\nDas Kolloquium wird von Frau Dr. Arleta Szkola geleitet.
ORGANIZER:MAILTO:margit.matt@mathematik.tu-chemnitz.de
UID:18832@www.tu-chemnitz.de
CREATED:20170519T071200Z
DTSTAMP:20210802T185140Z
END:VEVENT
END:VCALENDAR
