BEGIN:VCALENDAR
VERSION:2.0
PRODID:TU Chemnitz
METHOD:PUBLISH
X-WR-CALNAME:Veranstaltungen der TU Chemnitz
X-WR-TIMEZONE:Europe/Berlin
BEGIN:VEVENT
CLASS:PUBLIC
DTSTART;TZID="Europe/Berlin":20171123T160000
DTEND;TZID="Europe/Berlin":20171123T180000
LOCATION:Str. der Nationen 62\, Chemnitz (Böttcher-Bau)
SUMMARY:„Redox Chemistry of Metal Organic Compounds containing Heavy Group 15 Metals – From Insertion Reactions to Radicals and Poly...“ (Fakultät für Naturwissenschaften\, Institut für Chemie)
DESCRIPTION:Prof. Dr. Stephan Schulz\, Institut für Anorganische Chemie\, Universität Duisburg-Essen\nJuniorprofessor Dr. Evgeny Kataev\, 0371/ 531 39841\, evgeny.kataev@chemie.tu-chemnitz.de
ORGANIZER:MAILTO:jeanette.doerr@chemie.tu-chemnitz.de
UID:18827@www.tu-chemnitz.de
CREATED:20170517T073000Z
DTSTAMP:20210802T185803Z
END:VEVENT
END:VCALENDAR
