BEGIN:VCALENDAR
VERSION:2.0
PRODID:TU Chemnitz
METHOD:PUBLISH
X-WR-CALNAME:Veranstaltungen der TU Chemnitz
X-WR-TIMEZONE:Europe/Berlin
BEGIN:VEVENT
CLASS:PUBLIC
DTSTART;TZID="Europe/Berlin":20170510T210000
DTEND;TZID="Europe/Berlin":20170510T230000
LOCATION:Filmclub "mittendrin"\, Reichenhainer Str. 35/37\, Keller Mittelbau
SUMMARY:Kino: Jarocin\, po co wolność / Rock For Freedom [ Poln. Filmreihe / Eintritt frei! ] ("mittendrin" - das campuskino)
DESCRIPTION:(Das Festival in) Jarocin war eine Legende und ist es immer noch. Ein Ventil für alle\, die anders waren & dachten. Subkulturen begegneten jeden Sommer auf & vor der Bühne: Punk\, Metal\, Reggae\, Blues\, New Wave\, Experimentalmusik...\n>> EINTRITT FREI!\nfilmclub@tu-chemnitz.de
ORGANIZER:MAILTO:christina.axt@s2010.tu-chemnitz.de
UID:18800@www.tu-chemnitz.de
CREATED:20170430T175900Z
DTSTAMP:20210802T185005Z
END:VEVENT
END:VCALENDAR
