BEGIN:VCALENDAR
VERSION:2.0
PRODID:TU Chemnitz
METHOD:PUBLISH
X-WR-CALNAME:Veranstaltungen der TU Chemnitz
X-WR-TIMEZONE:Europe/Berlin
BEGIN:VEVENT
CLASS:PUBLIC
DTSTART;TZID="Europe/Berlin":20170519T200000
DTEND;TZID="Europe/Berlin":20170519T230000
LOCATION:Waisenstr. 11\, 09111 Chemnitz
SUMMARY:Vortrag: Berufsalltag zwischen Europa und Asien (Studentenverbindung Teutonia e.V.)
DESCRIPTION:Der Referent verkauft Chemnitzer High-Tech-Maschinen in Europa und Asien. In diesem Vortrag wird er von seinen Erlebnissen in Nah- und Fernost berichten und Einblicke in deren Kulturen gewähren.\nKarl Gündel M.Sc.\nDie Veranstaltung ist öffentlich\, der Eintritt ist frei. Weitere Informationen erteilt: x@teutonenweb.de
ORGANIZER:MAILTO:kay.nagel@s2005.tu-chemnitz.de
UID:18797@www.tu-chemnitz.de
CREATED:20170429T114100Z
DTSTAMP:20210802T185005Z
END:VEVENT
END:VCALENDAR
