BEGIN:VCALENDAR
VERSION:2.0
PRODID:TU Chemnitz
METHOD:PUBLISH
X-WR-CALNAME:Veranstaltungen der TU Chemnitz
X-WR-TIMEZONE:Europe/Berlin
BEGIN:VEVENT
CLASS:PUBLIC
DTSTART;TZID="Europe/Berlin":20020115T171500
DTEND;TZID="Europe/Berlin":20020115T184500
LOCATION:Wilhelm-Raabe-Str. 43\, Chemnitz
SUMMARY:Forschungskolloquium Psychologie: "Ritter & Fräulein oder Hausmann & Emanze. Geschlechterrollen im Wandel?" (Philosophische Fakultät\, Institut für Psychologie)
DESCRIPTION:Dipl.-Psych. Iris Six-Materna\, TU Chemnitz\nDipl.-Psych. Frank Renkewitz\, Tel. (0371) 531-6354\, E-Mail: frank.renkewitz@phil.tu-chemnitz.de
ORGANIZER:MAILTO:pfl@hrz.tu-chemnitz.de
UID:1879@www.tu-chemnitz.de
CREATED:20011024T095600Z
DTSTAMP:20210802T202616Z
END:VEVENT
END:VCALENDAR
